1.0000000000
0.0000000000
0.0000000000
-1.0000000000
564663.5000000000
4303519.5000000000
