1.0000000000
0.0000000000
0.0000000000
-1.0000000000
570146.5000000000
4296633.5000000000
