1.0000000000
0.0000000000
0.0000000000
-1.0000000000
548398.5000000000
4303390.5000000000
