1.0000000000
0.0000000000
0.0000000000
-1.0000000000
542976.5000000000
4303355.5000000000
