1.0000000000
0.0000000000
0.0000000000
-1.0000000000
548440.5000000000
4296455.5000000000
