1.0000000000
0.0000000000
0.0000000000
-1.0000000000
543014.5000000000
4296420.5000000000
