1.0000000000
0.0000000000
0.0000000000
-1.0000000000
537554.5000000000
4303324.5000000000
