BEGIN_USGS_DOQ_HEADER *
QUADRANGLE_NAME "MIDDLETOWN" 3.45 or 7.5-min. name*
QUADRANT NE quadrant indicator if cell size = 3.75-minutes*
WEST_LONGITUDE -122 33 45.000 signed deg min sec SDDD MM SS.SSS*
EAST_LONGITUDE -122 30 0.000 signed deg min sec SDDD MM SS.SSS*
NORTH_LATITUDE 38 52 30.000 signed deg min sec SDDD MM SS.SSS*
SOUTH_LATITUDE 38 48 45.000 signed deg min sec SDDD MM SS.SSS*
PRODUCTION_DATE 1998 8 17 yyyy mm dd*
RASTER_ORDER LEFT_RIGHT/TOP_BOTTOM video display order*
BAND_ORGANIZATION "SINGLE FILE" single file or BSQ, or BIL or BIP*
BAND_CONTENT BLACK&WHITE black&white or red green blue*
BITS_PER_PIXEL 8 radiometric resolution*
SAMPLES_AND_LINES 6158 7578 number of columns and rows*
HORIZONTAL_DATUM NAD83 primary horizontal datum*
HORIZONTAL_COORDINATE_SYSTEM UTM *
COORDINATE_ZONE 10 coordinate system zone number*
HORIZONTAL_UNITS METERS coordinate system units*
HORIZONTAL_RESOLUTION 1.00 pixel horiz. ground sample distance*
SECONDARY_HORIZONTAL_DATUM NAD27 secondary horizontal datum*
XY_ORIGIN 537554.000 4303325.000 coord. of upper left pixel pri. datum*
SECONDARY_XY_ORIGIN 537649.716 4303128.890 coord upper left pixel sec datum*
NATION US nation code*
STATE CA state fip code*
NW_QUAD_CORNER_XY 537950.538 4302996.286 XY coords. of pri. NW quad corner*
NE_QUAD_CORNER_XY 543372.071 4303024.125 XY coords. of pri. NE quad corner*
SE_QUAD_CORNER_XY 543410.033 4296088.562 XY coords. of pri. SE quad corner*
SW_QUAD_CORNER_XY 537983.754 4296060.736 XY coords. of pri. SW quad corner*
SECONDARY_NW_QUAD_XY 537951.508 4302788.600 XY coords. - sec. NW quad cor.*
SECONDARY_NE_QUAD_XY 543373.179 4302816.439 XY coords. - sec. NE quad cor.*
SECONDARY_SE_QUAD_XY 543411.140 4295881.014 XY coords. - sec. SE quad cor.*
SECONDARY_SW_QUAD_XY 537984.723 4295853.188 XY coords. - sec. SW quad cor.*
RMSE_XY 1.80 doq horiz. accuracy*
IMAGE_SOURCE "BLACK AND WHITE FILM" b&w, cir, natural color, other*
SOURCE_IMAGE_ID "NAPP 6360 152" source image id*
SOURCE_IMAGE_DATE 1993 07 10 source image date as yyyy mm dd*
IMAGE_SOURCE "BLACK AND WHITE FILM" b&w, cir, natural color, other*
SOURCE_IMAGE_ID "NAPP 6360 153" source image id*
SOURCE_IMAGE_DATE 1993 07 10 source image date as yyyy mm dd*
IMAGE_SOURCE "BLACK AND WHITE FILM" b&w, cir, natural color, other*
SOURCE_IMAGE_ID "NAPP 6360 154" source image id*
SOURCE_IMAGE_DATE 1993 07 10 source image date as yyyy mm dd*
SOURCE_DEM_DATE 1993 00 00 source dem date yyyy mm dd*
AGENCY "WESTERN MAPPING CENTER (WMC)" oversight agency*
PRODUCER "SCIENCE APPLICATIONS INTERNATIONAL" producer/contractor*
PRODUCTION_SYSTEM "GIS/MAGIC" production system*
STANDARD_VERSION 1996 12 version of DOQ standard*
METADATA_DATE 1998 08 21 date created or changed, yyyy mm dd*
DATA_FILE_SIZE 46671482 data set size in bytes*
BYTE_COUNT 6158 header byte count* * * * * * * * * * * * * * * * * * * * * * * * * * * *
END_USGS_HEADER *
