1.0000000000
0.0000000000
0.0000000000
-1.0000000000
537587.5000000000
4296388.5000000000
