1.0000000000
0.0000000000
0.0000000000
-1.0000000000
526711.5000000000
4303272.5000000000
