1.0000000000
0.0000000000
0.0000000000
-1.0000000000
521290.5000000000
4303259.5000000000
