1.0000000000
0.0000000000
0.0000000000
-1.0000000000
526734.5000000000
4296336.5000000000
