1.0000000000
0.0000000000
0.0000000000
-1.0000000000
521300.5000000000
4296319.5000000000
