1.0000000000
0.0000000000
0.0000000000
-1.0000000000
515860.5000000000
4303239.5000000000
