1.0000000000
0.0000000000
0.0000000000
-1.0000000000
510440.5000000000
4303229.5000000000
