BEGIN_USGS_DOQ_HEADER *
QUADRANGLE_NAME "THE GEYSERS" *
QUADRANT NW *
WEST_LONGITUDE -122 52 30.0 *
EAST_LONGITUDE -122 48 45.0 *
NORTH_LATITUDE 38 52 30.0 *
SOUTH_LATITUDE 38 48 45.0 *
PRODUCTION_DATE 1997 11 4 *
RASTER_ORDER LEFT_RIGHT/TOP_BOTTOM *
BAND_ORGANIZATION "SINGLE FILE" *
BAND_CONTENT BLACK&WHITE *
BITS_PER_PIXEL 8 *
SAMPLES_AND_LINES 6141 7571 *
HORIZONTAL_DATUM NAD83 *
HORIZONTAL_COORDINATE_SYSTEM UTM *
COORDINATE_ZONE 10 *
HORIZONTAL_UNITS METERS *
HORIZONTAL_RESOLUTION 1.0 *
SECONDARY_HORIZONTAL_DATUM NAD27 *
XY_ORIGIN 510440.000 4303230.000 *
SECONDARY_XY_ORIGIN 510536.215 4303033.273 *
NATION US *
STATE CA *
NW_QUAD_CORNER_XY 510842.990 4302912.771 *
NE_QUAD_CORNER_XY 516264.489 4302922.051 *
SE_QUAD_CORNER_XY 516278.724 4295986.537 *
SW_QUAD_CORNER_XY 510852.480 4295977.262 *
SECONDARY_NW_QUAD_XY 510843.267 4302705.083 *
SECONDARY_NE_QUAD_XY 516264.904 4302714.362 *
SECONDARY_SE_QUAD_XY 516279.139 4295778.987 *
SECONDARY_SW_QUAD_XY 510852.757 4295769.711 *
RMSE_XY 4.137 *
IMAGE_SOURCE "Black and White film" *
SOURCE_IMAGE_ID "NAPP 6362-22" *
SOURCE_IMAGE_DATE 1993 7 11 *
SOURCE_DEM_DATE 1983 7 3 *
AGENCY "WESTERN MAPPING CENTER (WMC)" *
PRODUCER "Hammon, Jensen, Wallen & Associates" *
PRODUCTION_SYSTEM "ORTHOVIEW" *
STANDARD_VERSION 1996 12 *
METADATA_DATE 1997 11 4 *
DATA_FILE_SIZE 46499652 *
BYTE_COUNT 6141 * * * * * * * * * * * * * * * * * * * * * * * * * * * * * * * * * *
END_USGS_HEADER *
