1.0000000000
0.0000000000
0.0000000000
-1.0000000000
515880.5000000000
4296299.5000000000
