1.0000000000
0.0000000000
0.0000000000
-1.0000000000
510450.5000000000
4296289.5000000000
