BEGIN_USGS_DOQ_HEADER *
QUADRANGLE_NAME "THE GEYSERS" *
QUADRANT SW *
WEST_LONGITUDE -122 52 30.0 *
EAST_LONGITUDE -122 48 45.0 *
NORTH_LATITUDE 38 48 45.0 *
SOUTH_LATITUDE 38 45 0.0 *
PRODUCTION_DATE 1997 11 4 *
RASTER_ORDER LEFT_RIGHT/TOP_BOTTOM *
BAND_ORGANIZATION "SINGLE FILE" *
BAND_CONTENT BLACK&WHITE *
BITS_PER_PIXEL 8 *
SAMPLES_AND_LINES 6151 7561 *
HORIZONTAL_DATUM NAD83 *
HORIZONTAL_COORDINATE_SYSTEM UTM *
COORDINATE_ZONE 10 *
HORIZONTAL_UNITS METERS *
HORIZONTAL_RESOLUTION 1.0 *
SECONDARY_HORIZONTAL_DATUM NAD27 *
XY_ORIGIN 510450.000 4296290.000 *
SECONDARY_XY_ORIGIN 510546.331 4296093.082 *
NATION US *
STATE CA *
NW_QUAD_CORNER_XY 510852.480 4295977.262 *
NE_QUAD_CORNER_XY 516278.724 4295986.537 *
SE_QUAD_CORNER_XY 516292.940 4289051.097 *
SW_QUAD_CORNER_XY 510861.957 4289041.826 *
SECONDARY_NW_QUAD_XY 510852.757 4295769.711 *
SECONDARY_NE_QUAD_XY 516279.139 4295778.987 *
SECONDARY_SE_QUAD_XY 516293.355 4288843.686 *
SECONDARY_SW_QUAD_XY 510862.234 4288834.415 *
RMSE_XY 2.553 *
IMAGE_SOURCE "Black and White film" *
SOURCE_IMAGE_ID "NAPP 6362-24" *
SOURCE_IMAGE_DATE 1993 7 11 *
SOURCE_DEM_DATE 1983 7 3 *
AGENCY "WESTERN MAPPING CENTER (WMC)" *
PRODUCER "Hammon, Jensen, Wallen & Associates" *
PRODUCTION_SYSTEM "ORTHOVIEW" *
STANDARD_VERSION 1996 12 *
METADATA_DATE 1997 11 4 *
DATA_FILE_SIZE 46513862 *
BYTE_COUNT 6151 * * * * * * * * * * * * * * * * * * * * * * * * * * * * * * * * * *
END_USGS_HEADER *
