1.0000000000
0.0000000000
0.0000000000
-1.0000000000
505020.5000000000
4303219.5000000000
