BEGIN_USGS_DOQ_HEADER *
QUADRANGLE_NAME "ASTI" *
QUADRANT NW *
WEST_LONGITUDE -123 0 0.0 *
EAST_LONGITUDE -122 56 15.0 *
NORTH_LATITUDE 38 52 30.0 *
SOUTH_LATITUDE 38 48 45.0 *
PRODUCTION_DATE 1997 11 3 *
RASTER_ORDER LEFT_RIGHT/TOP_BOTTOM *
BAND_ORGANIZATION "SINGLE FILE" *
BAND_CONTENT BLACK&WHITE *
BITS_PER_PIXEL 8 *
SAMPLES_AND_LINES 6131 7561 *
HORIZONTAL_DATUM NAD83 *
HORIZONTAL_COORDINATE_SYSTEM UTM *
COORDINATE_ZONE 10 *
HORIZONTAL_UNITS METERS *
HORIZONTAL_RESOLUTION 1.0 *
SECONDARY_HORIZONTAL_DATUM NAD27 *
XY_ORIGIN 499600.000 4303210.000 *
SECONDARY_XY_ORIGIN 499696.354 4303013.072 *
NATION US *
STATE CA *
NW_QUAD_CORNER_XY 500000.000 4302905.348 *
NE_QUAD_CORNER_XY 505421.494 4302907.204 *
SE_QUAD_CORNER_XY 505426.239 4295971.697 *
SW_QUAD_CORNER_XY 500000.000 4295969.842 *
SECONDARY_NW_QUAD_XY 500000.000 4302697.659 *
SECONDARY_NE_QUAD_XY 505421.633 4302699.515 *
SECONDARY_SE_QUAD_XY 505426.378 4295764.146 *
SECONDARY_SW_QUAD_XY 500000.000 4295762.291 *
RMSE_XY 2.207 *
IMAGE_SOURCE "Black and White film" *
SOURCE_IMAGE_ID "NAPP 6362-96" *
SOURCE_IMAGE_DATE 1993 7 11 *
SOURCE_DEM_DATE 1978 0 0 *
AGENCY "WESTERN MAPPING CENTER (WMC)" *
PRODUCER "Hammon, Jensen, Wallen & Associates" *
PRODUCTION_SYSTEM "ORTHOVIEW" *
STANDARD_VERSION 1996 12 *
METADATA_DATE 1997 11 3 *
DATA_FILE_SIZE 46362622 *
BYTE_COUNT 6131 * * * * * * * * * * * * * * * * * * * * * * * * * * * * * * * * * *
END_USGS_HEADER *
