BEGIN_USGS_DOQ_HEADER *
QUADRANGLE_NAME "ASTI" *
QUADRANT SW *
WEST_LONGITUDE -123 0 0.0 *
EAST_LONGITUDE -122 56 15.0 *
NORTH_LATITUDE 38 48 45.0 *
SOUTH_LATITUDE 38 45 0.0 *
PRODUCTION_DATE 1997 11 3 *
RASTER_ORDER LEFT_RIGHT/TOP_BOTTOM *
BAND_ORGANIZATION "SINGLE FILE" *
BAND_CONTENT BLACK&WHITE *
BITS_PER_PIXEL 8 *
SAMPLES_AND_LINES 6141 7561 *
HORIZONTAL_DATUM NAD83 *
HORIZONTAL_COORDINATE_SYSTEM UTM *
COORDINATE_ZONE 10 *
HORIZONTAL_UNITS METERS *
HORIZONTAL_RESOLUTION 1.0 *
SECONDARY_HORIZONTAL_DATUM NAD27 *
XY_ORIGIN 499600.000 4296280.000 *
SECONDARY_XY_ORIGIN 499696.459 4296082.847 *
NATION US *
STATE CA *
NW_QUAD_CORNER_XY 500000.000 4295969.842 *
NE_QUAD_CORNER_XY 505426.239 4295971.697 *
SE_QUAD_CORNER_XY 505430.978 4289036.264 *
SW_QUAD_CORNER_XY 500000.000 4289034.410 *
SECONDARY_NW_QUAD_XY 500000.000 4295762.291 *
SECONDARY_NE_QUAD_XY 505426.378 4295764.146 *
SECONDARY_SE_QUAD_XY 505431.116 4288828.853 *
SECONDARY_SW_QUAD_XY 500000.000 4288826.999 *
RMSE_XY 2.009 *
IMAGE_SOURCE "Black and White film" *
SOURCE_IMAGE_ID "NAPP 6362-98" *
SOURCE_IMAGE_DATE 1993 7 11 *
SOURCE_DEM_DATE 1978 0 0 *
AGENCY "WESTERN MAPPING CENTER (WMC)" *
PRODUCER "Hammon, Jensen, Wallen & Associates" *
PRODUCTION_SYSTEM "ORTHOVIEW" *
STANDARD_VERSION 1996 12 *
METADATA_DATE 1997 11 3 *
DATA_FILE_SIZE 46438242 *
BYTE_COUNT 6141 * * * * * * * * * * * * * * * * * * * * * * * * * * * * * * * * * *
END_USGS_HEADER *
