BEGIN_USGS_DOQ_HEADER *
QUADRANGLE_NAME "WILDWOOD SCHOOL" 3.45 or 7.5-min. name*
QUADRANT SE quadrant indicator if cell size = 3.75-minutes*
WEST_LONGITUDE -122 3 45.000 signed deg min sec SDDD MM SS.SSS*
EAST_LONGITUDE -122 0 0.000 signed deg min sec SDDD MM SS.SSS*
NORTH_LATITUDE 38 56 15.000 signed deg min sec SDDD MM SS.SSS*
SOUTH_LATITUDE 38 52 30.000 signed deg min sec SDDD MM SS.SSS*
PRODUCTION_DATE 1999 9 30 yyyy mm dd*
RASTER_ORDER LEFT_RIGHT/TOP_BOTTOM video display order*
BAND_ORGANIZATION "SINGLE FILE" single file or BSQ, or BIL or BIP*
BAND_CONTENT BLACK&WHITE black&white or red green blue*
BITS_PER_PIXEL 8 radiometric resolution*
SAMPLES_AND_LINES 6188 7608 number of columns and rows*
HORIZONTAL_DATUM NAD83 primary horizontal datum*
HORIZONTAL_COORDINATE_SYSTEM UTM *
COORDINATE_ZONE 10 coordinate system zone number*
HORIZONTAL_UNITS METERS coordinate system units*
HORIZONTAL_RESOLUTION 1.00 pixel horiz. ground sample distance*
SECONDARY_HORIZONTAL_DATUM NAD27 secondary horizontal datum*
XY_ORIGIN 580857.000 4310617.000 coord. of upper left pixel pri. datum*
SECONDARY_XY_ORIGIN 580952.670 4310421.440 coord upper left pixel sec datum*
NATION US nation code*
STATE CA state fip code*
NW_QUAD_CORNER_XY 581251.909 4310258.720 XY coords. of pri. NW quad corner*
NE_QUAD_CORNER_XY 586668.816 4310316.286 XY coords. of pri. NE quad corner*
SE_QUAD_CORNER_XY 586744.851 4303380.480 XY coords. of pri. SE quad corner*
SW_QUAD_CORNER_XY 581323.190 4303322.941 XY coords. of pri. SW quad corner*
SECONDARY_NW_QUAD_XY 581253.988 4310050.904 XY coords. - sec. NW quad cor.*
SECONDARY_NE_QUAD_XY 586671.034 4310108.472 XY coords. - sec. NE quad cor.*
SECONDARY_SE_QUAD_XY 586747.067 4303172.804 XY coords. - sec. SE quad cor.*
SECONDARY_SW_QUAD_XY 581325.268 4303115.263 XY coords. - sec. SW quad cor.*
RMSE_XY 0.60 doq horiz. accuracy*
IMAGE_SOURCE "BLACK AND WHITE FILM" b&w, cir, natural color, other*
SOURCE_IMAGE_ID "NAPP 6358 51" source image id*
SOURCE_IMAGE_DATE 1993 6 16 source image date as yyyy mm dd*
SOURCE_DEM_DATE 1999 9 30 source dem date yyyy mm dd*
AGENCY "WESTERN MAPPING CENTER (WMC)" oversight agency*
PRODUCER "WESTERN MAPPING CENTER (WMC)" *
PRODUCTION_SYSTEM "DV2.6.3 10/9OV2.4 5/95" production system*
STANDARD_VERSION 1996 12 version of DOQ standard*
METADATA_DATE 1999 10 8 date created or changed, yyyy mm dd*
DATA_FILE_SIZE 47084492 data set size in bytes*
BYTE_COUNT 6188 header byte count* * * * * * * * * * * * * * * * * * * * * * * * * * * * * * * * * * *
END_USGS_HEADER *
