1.0000000000
0.0000000000
0.0000000000
-1.0000000000
575440.5000000000
4310559.5000000000
