1.0000000000
0.0000000000
0.0000000000
-1.0000000000
569961.5000000000
4317440.5000000000
