BEGIN_USGS_DOQ_HEADER *
QUADRANGLE_NAME "RUMSEY" 3.45 or 7.5-min. name*
QUADRANT NE quadrant indicator if cell size = 3.75-minutes*
WEST_LONGITUDE -122 11 15.000 signed deg min sec SDDD MM SS.SSS*
EAST_LONGITUDE -122 7 30.000 signed deg min sec SDDD MM SS.SSS*
NORTH_LATITUDE 39 0 0.000 signed deg min sec SDDD MM SS.SSS*
SOUTH_LATITUDE 38 56 15.000 signed deg min sec SDDD MM SS.SSS*
PRODUCTION_DATE 1998 8 18 yyyy mm dd*
RASTER_ORDER LEFT_RIGHT/TOP_BOTTOM video display order*
BAND_ORGANIZATION "SINGLE FILE" single file or BSQ, or BIL or BIP*
BAND_CONTENT BLACK&WHITE black&white or red green blue*
BITS_PER_PIXEL 8 radiometric resolution*
SAMPLES_AND_LINES 6176 7601 number of columns and rows*
HORIZONTAL_DATUM NAD83 primary horizontal datum*
HORIZONTAL_COORDINATE_SYSTEM UTM *
COORDINATE_ZONE 10 coordinate system zone number*
HORIZONTAL_UNITS METERS coordinate system units*
HORIZONTAL_RESOLUTION 1.00 pixel horiz. ground sample distance*
SECONDARY_HORIZONTAL_DATUM NAD27 secondary horizontal datum*
XY_ORIGIN 569961.000 4317441.000 coord. of upper left pixel pri. datum*
SECONDARY_XY_ORIGIN 570056.531 4317245.435 coord upper left pixel sec datum*
NATION US nation code*
STATE CA state fip code*
NW_QUAD_CORNER_XY 570356.296 4317090.534 XY coords. of pri. NW quad corner*
NE_QUAD_CORNER_XY 575768.404 4317140.694 XY coords. of pri. NE quad corner*
SE_QUAD_CORNER_XY 575835.022 4310204.868 XY coords. of pri. SE quad corner*
SW_QUAD_CORNER_XY 570418.155 4310154.732 XY coords. of pri. SW quad corner*
SECONDARY_NW_QUAD_XY 570358.099 4316882.579 XY coords. - sec. NW quad cor.*
SECONDARY_NE_QUAD_XY 575770.346 4316932.740 XY coords. - sec. NE quad cor.*
SECONDARY_SE_QUAD_XY 575836.963 4309997.051 XY coords. - sec. SE quad cor.*
SECONDARY_SW_QUAD_XY 570419.957 4309946.913 XY coords. - sec. SW quad cor.*
RMSE_XY 2.50 doq horiz. accuracy*
IMAGE_SOURCE "BLACK AND WHITE FILM" b&w, cir, natural color, other*
SOURCE_IMAGE_ID "NAPP 6359 008" source image id*
SOURCE_IMAGE_DATE 1993 07 06 source image date as yyyy mm dd*
IMAGE_SOURCE "BLACK AND WHITE FILM" b&w, cir, natural color, other*
SOURCE_IMAGE_ID "NAPP 6359 043" source image id*
SOURCE_IMAGE_DATE 1993 07 06 source image date as yyyy mm dd*
IMAGE_SOURCE "BLACK AND WHITE FILM" b&w, cir, natural color, other*
SOURCE_IMAGE_ID "NAPP 6359 007" source image id*
SOURCE_IMAGE_DATE 1993 07 06 source image date as yyyy mm dd*
IMAGE_SOURCE "BLACK AND WHITE FILM" b&w, cir, natural color, other*
SOURCE_IMAGE_ID "NAPP 6359 009" source image id*
SOURCE_IMAGE_DATE 1993 07 06 source image date as yyyy mm dd*
SOURCE_DEM_DATE 1978 00 00 source dem date yyyy mm dd*
AGENCY "WESTERN MAPPING CENTER (WMC)" oversight agency*
PRODUCER "SCIENCE APPLICATIONS INTERNATIONAL" producer/contractor*
PRODUCTION_SYSTEM "GIS/MAGIC" production system*
STANDARD_VERSION 1996 12 version of DOQ standard*
METADATA_DATE 1998 08 21 date created or changed, yyyy mm dd*
DATA_FILE_SIZE 46949952 data set size in bytes*
BYTE_COUNT 6176 header byte count* * * * * * * * * * * * * * * * * * * * * * * * * *
END_USGS_HEADER *
