1.0000000000
0.0000000000
0.0000000000
-1.0000000000
570023.5000000000
4310504.5000000000
