1.0000000000
0.0000000000
0.0000000000
-1.0000000000
564606.5000000000
4310454.5000000000
