1.0000000000
0.0000000000
0.0000000000
-1.0000000000
559137.5000000000
4317344.5000000000
