1.0000000000
0.0000000000
0.0000000000
-1.0000000000
553725.5000000000
4317301.5000000000
