1.0000000000
0.0000000000
0.0000000000
-1.0000000000
559189.5000000000
4310408.5000000000
