BEGIN_USGS_DOQ_HEADER *
QUADRANGLE_NAME "GLASCOCK MOUNTAIN" 3.45 or 7.5-min. name*
QUADRANT SE quadrant indicator if cell size = 3.75-minutes*
WEST_LONGITUDE -122 18 45.000 signed deg min sec SDDD MM SS.SSS*
EAST_LONGITUDE -122 15 0.000 signed deg min sec SDDD MM SS.SSS*
NORTH_LATITUDE 38 56 15.000 signed deg min sec SDDD MM SS.SSS*
SOUTH_LATITUDE 38 52 30.000 signed deg min sec SDDD MM SS.SSS*
PRODUCTION_DATE 1998 8 17 yyyy mm dd*
RASTER_ORDER LEFT_RIGHT/TOP_BOTTOM video display order*
BAND_ORGANIZATION "SINGLE FILE" single file or BSQ, or BIL or BIP*
BAND_CONTENT BLACK&WHITE black&white or red green blue*
BITS_PER_PIXEL 8 radiometric resolution*
SAMPLES_AND_LINES 6171 7593 number of columns and rows*
HORIZONTAL_DATUM NAD83 primary horizontal datum*
HORIZONTAL_COORDINATE_SYSTEM UTM *
COORDINATE_ZONE 10 coordinate system zone number*
HORIZONTAL_UNITS METERS coordinate system units*
HORIZONTAL_RESOLUTION 1.00 pixel horiz. ground sample distance*
SECONDARY_HORIZONTAL_DATUM NAD27 secondary horizontal datum*
XY_ORIGIN 559189.000 4310409.000 coord. of upper left pixel pri. datum*
SECONDARY_XY_ORIGIN 559284.608 4310213.288 coord upper left pixel sec datum*
NATION US nation code*
STATE CA state fip code*
NW_QUAD_CORNER_XY 559584.472 4310065.601 XY coords. of pri. NW quad corner*
NE_QUAD_CORNER_XY 565001.305 4310108.309 XY coords. of pri. NE quad corner*
SE_QUAD_CORNER_XY 565058.328 4303172.602 XY coords. of pri. SE quad corner*
SW_QUAD_CORNER_XY 559636.742 4303129.914 XY coords. of pri. SW quad corner*
SECONDARY_NW_QUAD_XY 559585.997 4309857.780 XY coords. - sec. NW quad cor.*
SECONDARY_NE_QUAD_XY 565002.969 4309900.490 XY coords. - sec. NE quad cor.*
SECONDARY_SE_QUAD_XY 565059.990 4302964.920 XY coords. - sec. SE quad cor.*
SECONDARY_SW_QUAD_XY 559638.266 4302922.231 XY coords. - sec. SW quad cor.*
RMSE_XY 2.20 doq horiz. accuracy*
IMAGE_SOURCE "BLACK AND WHITE FILM" b&w, cir, natural color, other*
SOURCE_IMAGE_ID "NAPP 6359 144" source image id*
SOURCE_IMAGE_DATE 1993 07 06 source image date as yyyy mm dd*
IMAGE_SOURCE "BLACK AND WHITE FILM" b&w, cir, natural color, other*
SOURCE_IMAGE_ID "NAPP 6359 183" source image id*
SOURCE_IMAGE_DATE 1993 07 06 source image date as yyyy mm dd*
IMAGE_SOURCE "BLACK AND WHITE FILM" b&w, cir, natural color, other*
SOURCE_IMAGE_ID "NAPP 6359 143" source image id*
SOURCE_IMAGE_DATE 1993 07 06 source image date as yyyy mm dd*
IMAGE_SOURCE "BLACK AND WHITE FILM" b&w, cir, natural color, other*
SOURCE_IMAGE_ID "NAPP 6359 145" source image id*
SOURCE_IMAGE_DATE 1993 07 06 source image date as yyyy mm dd*
SOURCE_DEM_DATE 1991 09 00 source dem date yyyy mm dd*
AGENCY "WESTERN MAPPING CENTER (WMC)" oversight agency*
PRODUCER "SCIENCE APPLICATIONS INTERNATIONAL" producer/contractor*
PRODUCTION_SYSTEM "GIS/MAGIC" production system*
STANDARD_VERSION 1996 12 version of DOQ standard*
METADATA_DATE 1998 08 21 date created or changed, yyyy mm dd*
DATA_FILE_SIZE 46862574 data set size in bytes*
BYTE_COUNT 6171 header byte count* * * * * * * * * * * * * * * * * * * * * * * * * *
END_USGS_HEADER *
