BEGIN_USGS_DOQ_HEADER *
QUADRANGLE_NAME "WILSON VALLEY" 3.45 or 7.5-min. name*
QUADRANT NW quadrant indicator if cell size = 3.75-minutes*
WEST_LONGITUDE -122 30 0.000 signed deg min sec SDDD MM SS.SSS*
EAST_LONGITUDE -122 26 15.000 signed deg min sec SDDD MM SS.SSS*
NORTH_LATITUDE 39 0 0.000 signed deg min sec SDDD MM SS.SSS*
SOUTH_LATITUDE 38 56 15.000 signed deg min sec SDDD MM SS.SSS*
PRODUCTION_DATE 1998 8 17 yyyy mm dd*
RASTER_ORDER LEFT_RIGHT/TOP_BOTTOM video display order*
BAND_ORGANIZATION "SINGLE FILE" single file or BSQ, or BIL or BIP*
BAND_CONTENT BLACK&WHITE black&white or red green blue*
BITS_PER_PIXEL 8 radiometric resolution*
SAMPLES_AND_LINES 6152 7583 number of columns and rows*
HORIZONTAL_DATUM NAD83 primary horizontal datum*
HORIZONTAL_COORDINATE_SYSTEM UTM *
COORDINATE_ZONE 10 coordinate system zone number*
HORIZONTAL_UNITS METERS coordinate system units*
HORIZONTAL_RESOLUTION 1.00 pixel horiz. ground sample distance*
SECONDARY_HORIZONTAL_DATUM NAD27 secondary horizontal datum*
XY_ORIGIN 542900.000 4317228.000 coord. of upper left pixel pri. datum*
SECONDARY_XY_ORIGIN 542995.301 4317032.155 coord upper left pixel sec datum*
NATION US nation code*
STATE CA state fip code*
NW_QUAD_CORNER_XY 543295.992 4316895.472 XY coords. of pri. NW quad corner*
NE_QUAD_CORNER_XY 548708.026 4316927.053 XY coords. of pri. NE quad corner*
SE_QUAD_CORNER_XY 548750.850 4309991.327 XY coords. of pri. SE quad corner*
SW_QUAD_CORNER_XY 543334.058 4309959.762 XY coords. of pri. SW quad corner*
SECONDARY_NW_QUAD_XY 543297.102 4316687.512 XY coords. - sec. NW quad cor.*
SECONDARY_NE_QUAD_XY 548709.274 4316719.094 XY coords. - sec. NE quad cor.*
SECONDARY_SE_QUAD_XY 548752.097 4309783.505 XY coords. - sec. SE quad cor.*
SECONDARY_SW_QUAD_XY 543335.166 4309751.938 XY coords. - sec. SW quad cor.*
RMSE_XY 2.80 doq horiz. accuracy*
IMAGE_SOURCE "BLACK AND WHITE FILM" b&w, cir, natural color, other*
SOURCE_IMAGE_ID "NAPP 6360 130" source image id*
SOURCE_IMAGE_DATE 1993 07 10 source image date as yyyy mm dd*
IMAGE_SOURCE "BLACK AND WHITE FILM" b&w, cir, natural color, other*
SOURCE_IMAGE_ID "NAPP 6360 131" source image id*
SOURCE_IMAGE_DATE 1993 07 10 source image date as yyyy mm dd*
IMAGE_SOURCE "BLACK AND WHITE FILM" b&w, cir, natural color, other*
SOURCE_IMAGE_ID "NAPP 6360 129" source image id*
SOURCE_IMAGE_DATE 1993 07 10 source image date as yyyy mm dd*
IMAGE_SOURCE "BLACK AND WHITE FILM" b&w, cir, natural color, other*
SOURCE_IMAGE_ID "NAPP 6360 128" source image id*
SOURCE_IMAGE_DATE 1993 07 10 source image date as yyyy mm dd*
IMAGE_SOURCE "BLACK AND WHITE FILM" b&w, cir, natural color, other*
SOURCE_IMAGE_ID "NAPP 6360 191" source image id*
SOURCE_IMAGE_DATE 1993 07 10 source image date as yyyy mm dd*
SOURCE_DEM_DATE 1958 00 00 source dem date yyyy mm dd*
AGENCY "WESTERN MAPPING CENTER (WMC)" oversight agency*
PRODUCER "SCIENCE APPLICATIONS INTERNATIONAL" producer/contractor*
PRODUCTION_SYSTEM "GIS/MAGIC" production system*
STANDARD_VERSION 1996 12 version of DOQ standard*
METADATA_DATE 1998 08 21 date created or changed, yyyy mm dd*
DATA_FILE_SIZE 46656768 data set size in bytes*
BYTE_COUNT 6152 header byte count* * * * * * * * * * * * * * * * * * * * * *
END_USGS_HEADER *
