1.0000000000
0.0000000000
0.0000000000
-1.0000000000
548355.5000000000
4310326.5000000000
