1.0000000000
0.0000000000
0.0000000000
-1.0000000000
542938.5000000000
4310291.5000000000
