1.0000000000
0.0000000000
0.0000000000
-1.0000000000
537488.5000000000
4317195.5000000000
