1.0000000000
0.0000000000
0.0000000000
-1.0000000000
532076.5000000000
4317167.5000000000
