1.0000000000
0.0000000000
0.0000000000
-1.0000000000
537521.5000000000
4310259.5000000000
