1.0000000000
0.0000000000
0.0000000000
-1.0000000000
532104.5000000000
4310231.5000000000
