1.0000000000
0.0000000000
0.0000000000
-1.0000000000
521251.5000000000
4317123.5000000000
