1.0000000000
0.0000000000
0.0000000000
-1.0000000000
515839.5000000000
4317106.5000000000
