1.0000000000
0.0000000000
0.0000000000
-1.0000000000
510436.5000000000
4310157.5000000000
